BEGIN:VCALENDAR
VERSION:2.0
PRODID:Canton, GA Calendar Creator
METHOD:PUBLISH
BEGIN:VEVENT
DTSTAMP:20211101T145626
DTSTART:20211211T110000
DTEND:20211211T140000
SUMMARY:Visit with Santa
DESCRIPTION:<p>Make your list and visit with the Jolly ole' fella himself&nbsp;in the Cannon Park Gazebo. Don't forget to bring your camera!&nbsp;</p><p><p style="text-align: center;"></p></p>
X-ALT-DESC;FMTTYPE=text/html:<p>Make your list and visit with the Jolly ole' fella himself&nbsp;in the Cannon Park Gazebo. Don't forget to bring your camera!&nbsp;</p><p><p style="text-align: center;"></p></p>
LOCATION:Downtown Canton\, 130 East Main Street Canton\, Georgia 30114
CLASS:PUBLIC
END:VEVENT
END:VCALENDAR
