BEGIN:VCALENDAR
VERSION:2.0
PRODID:Canton, GA Calendar Creator
METHOD:PUBLISH
BEGIN:VEVENT
DTSTAMP:20211101T142246
DTSTART:20211210T180000
DTEND:20211210T210000
SUMMARY:Christmas In Canton
DESCRIPTION:<p>You’re invited to join us for Christmas in Canton! Activities will include a visit with Santa, The Polar Express movie, train rides, petting zoo, face painting, balloon artist, inflatables, s’mores and more! The shops will be open extended hours to assist you with your Christmas shopping. If you or your business would like to be a sponsor or participate please email velinda.hardy@cantonga.gov</p><p style="text-align: center;">&nbsp;</p><p>&nbsp;</p>
X-ALT-DESC;FMTTYPE=text/html:<p>You’re invited to join us for Christmas in Canton! Activities will include a visit with Santa, The Polar Express movie, train rides, petting zoo, face painting, balloon artist, inflatables, s’mores and more! The shops will be open extended hours to assist you with your Christmas shopping. If you or your business would like to be a sponsor or participate please email velinda.hardy@cantonga.gov</p><p style="text-align: center;">&nbsp;</p><p>&nbsp;</p>
LOCATION:Downtown Canton\, 130 East Main Street Canton\, Georgia 30114
CLASS:PUBLIC
END:VEVENT
END:VCALENDAR
