BEGIN:VCALENDAR
VERSION:2.0
PRODID:Canton, GA Calendar Creator
METHOD:PUBLISH
BEGIN:VEVENT
DTSTAMP:20211101T141145
DTSTART:20211117T183000
DTEND:20211117T193000
SUMMARY:Downtown Canton Tree Lighting
DESCRIPTION:<p>Join us as we welcome in the 2021 Holiday season and light the Downtown Canton Christmas Tree</p><p><p style="text-align: center;"><p style="text-align: center;"><p style="text-align: center;"></p></p></p></p>
X-ALT-DESC;FMTTYPE=text/html:<p>Join us as we welcome in the 2021 Holiday season and light the Downtown Canton Christmas Tree</p><p><p style="text-align: center;"><p style="text-align: center;"><p style="text-align: center;"></p></p></p></p>
LOCATION:Downtown Canton\, 130 East Main Street Canton\, Georgia 30114
CLASS:PUBLIC
END:VEVENT
END:VCALENDAR
