BEGIN:VCALENDAR
VERSION:2.0
PRODID:Canton, GA Calendar Creator
METHOD:PUBLISH
BEGIN:VEVENT
DTSTAMP:20211101T141457
DTSTART:20211113T130000
DTEND:20211113T170000
SUMMARY:Downtown Canton Holiday Open House
DESCRIPTION:<p>You're invited to join us in Downtown Canton, Saturday November 13 from 1-5pm, as we welcome in the Holiday season. Perfect opportunity to find that one-of-a-kind gift for someone special on your list.</p><p><p style="text-align: center;"></p></p>
X-ALT-DESC;FMTTYPE=text/html:<p>You're invited to join us in Downtown Canton, Saturday November 13 from 1-5pm, as we welcome in the Holiday season. Perfect opportunity to find that one-of-a-kind gift for someone special on your list.</p><p><p style="text-align: center;"></p></p>
LOCATION:Downtown Canton\, 130 East Main Street Canton\, Georgia 30114
CLASS:PUBLIC
END:VEVENT
END:VCALENDAR
