BEGIN:VCALENDAR
VERSION:2.0
PRODID:Canton, GA Calendar Creator
METHOD:PUBLISH
BEGIN:VEVENT
DTSTAMP:20211028T151209
DTSTART:20211101T100000
DTEND:20211101T150000
SUMMARY:Red Cross Blood Drive
DESCRIPTION:
X-ALT-DESC;FMTTYPE=text/html:
LOCATION:City Hall\, 110 Academy Street Canton\, Georgia 30114-3003
CLASS:PUBLIC
END:VEVENT
END:VCALENDAR
