BEGIN:VCALENDAR
VERSION:2.0
PRODID:Canton, GA Calendar Creator
METHOD:PUBLISH
BEGIN:VEVENT
DTSTAMP:20210913T142311
DTSTART:20211005T100000
DTEND:20211005T110000
SUMMARY:Curious George- A Halloween Boofest
DESCRIPTION:<p style="text-align: left;">Join us for this free movie event in celebration of Georgia Cities Week!</p><p style="text-align: left;"> Doors open at 9:30am and availability is first come, first served.</p><p>&nbsp;</p>
X-ALT-DESC;FMTTYPE=text/html:<p style="text-align: left;">Join us for this free movie event in celebration of Georgia Cities Week!</p><p style="text-align: left;"> Doors open at 9:30am and availability is first come, first served.</p><p>&nbsp;</p>
LOCATION:Canton Theatre\, 171 E Main St. Canton\, Georgia 30114
CLASS:PUBLIC
END:VEVENT
END:VCALENDAR
