BEGIN:VCALENDAR
VERSION:2.0
PRODID:Canton, GA Calendar Creator
METHOD:PUBLISH
BEGIN:VEVENT
DTSTAMP:20210903T121235
DTSTART:20211009T000000
DTEND:20211009T235900
SUMMARY:City of Canton Recycling Event
DESCRIPTION:<div>Peace + Love + Recycle - Canton: October 9</div><div></div><div></div><div>Join us at the City of Canton Public Works on Sat., Oct. 9, from 7 a.m.-1 p.m., for a city-wide recycling event! City residents have the opportunity to drop off items that are typically more difficult to recycle, such as electronics, latex and oil-based paint, and tires. Paper shredding will also be available. You must be a resident that lives within the City limits of Canton to participate.&nbsp;</div><div></div><div>Here are some things to remember before you arrive:</div><ul>    <li>Paper shredding is limited to five copier paper boxes</li>    <li>Electronics recycling</li>    <li>Tube Televisions - $25 cash fee</li>    <li>Oil-based and latex paint will be accepted and limited to 10 gallons per vehicle (cans must contain 50% wet paint)</li>    <li>Tires are limited to eight tires per vehicle (no dealer tires)</li></ul><div>COVID-19 social distancing guidelines:</div><ul>    <li>Attendees are encouraged to wear masks</li>    <li>Containers will not be returned, therefore bring materials in disposable containers or boxes</li>    <li>If you are bringing a tube television, please make sure you have help to unload</li></ul>
X-ALT-DESC;FMTTYPE=text/html:<div>Peace + Love + Recycle - Canton: October 9</div><div></div><div></div><div>Join us at the City of Canton Public Works on Sat., Oct. 9, from 7 a.m.-1 p.m., for a city-wide recycling event! City residents have the opportunity to drop off items that are typically more difficult to recycle, such as electronics, latex and oil-based paint, and tires. Paper shredding will also be available. You must be a resident that lives within the City limits of Canton to participate.&nbsp;</div><div></div><div>Here are some things to remember before you arrive:</div><ul>    <li>Paper shredding is limited to five copier paper boxes</li>    <li>Electronics recycling</li>    <li>Tube Televisions - $25 cash fee</li>    <li>Oil-based and latex paint will be accepted and limited to 10 gallons per vehicle (cans must contain 50% wet paint)</li>    <li>Tires are limited to eight tires per vehicle (no dealer tires)</li></ul><div>COVID-19 social distancing guidelines:</div><ul>    <li>Attendees are encouraged to wear masks</li>    <li>Containers will not be returned, therefore bring materials in disposable containers or boxes</li>    <li>If you are bringing a tube television, please make sure you have help to unload</li></ul>
LOCATION:Public Works\, 2525 Ridge Rd Canton\, Georgia 30114
CLASS:PUBLIC
END:VEVENT
END:VCALENDAR
