BEGIN:VCALENDAR
VERSION:2.0
PRODID:Canton, GA Calendar Creator
METHOD:PUBLISH
BEGIN:VEVENT
DTSTAMP:20210902T133556
DTSTART:20211007T000000
DTEND:20211010T235900
SUMMARY:Etowah Film Festival
DESCRIPTION:<p>&nbsp;For tickets and information, please visit <a href="http://www.etowahfilmfestival.com" target="_blank">etowahfilmfestival.com</a></p><p></p>
X-ALT-DESC;FMTTYPE=text/html:<p>&nbsp;For tickets and information, please visit <a href="http://www.etowahfilmfestival.com" target="_blank">etowahfilmfestival.com</a></p><p></p>
LOCATION:Canton Theatre\, 171 E Main St. Canton\, Georgia 30114
CLASS:PUBLIC
END:VEVENT
END:VCALENDAR
