BEGIN:VCALENDAR
VERSION:2.0
PRODID:Canton, GA Calendar Creator
METHOD:PUBLISH
BEGIN:VEVENT
DTSTAMP:20210825T141729
DTSTART:20211009T090000
DTEND:20211009T120000
SUMMARY:Think Pink Cherokee
DESCRIPTION:<p><strong>Think Pink Cherokee</strong></p><p>The City of Canton, Downtown Canton and Northside Hospital Cherokee would like to invite you to the ‘Think Pink&nbsp; Cherokee’ Breast Cancer Awareness Walk. This event on Saturday, October 9, will feature a one-mile informational&nbsp; walk in Downtown Canton, live entertainment, breast cancer awareness activities, and a walkers’ reception for all&nbsp; participants in the walk. The walk and registration will begin in Cannon Park. Registration begins at 9:00 am and the&nbsp; walk begins at 10:00 am.&nbsp;&nbsp;</p><p>Pre-registration for the event is $15.00. This includes walk participation, reception, and one ‘Think Pink’ T-shirt. If you&nbsp; would like to pre-register to assure you receive a t-shirt, please complete the requested information and return to the&nbsp; address or email indicated by September 17. Only one participant per registration form please. You may also register on the day of the event. Day-of registration is $20.00. Your requested shirt size will not be guaranteed if you do not pre-register. (All shirts must be picked up by October 29, 2021 if the participant chooses not to walk).&nbsp;</p><p><strong>Schedule of Events on October 9:&nbsp;</strong></p><ul>    <li>9:00 am Registration and T-shirt distribution, Cannon Park, Downtown Canton&nbsp;</li>    <li>10:00 am One-mile walk followed by walkers’ reception&nbsp;<br>    *Awareness activities will take place throughout the event </li></ul><p>&nbsp;<a href="https://canton.prod-as.govaccess.org/home/showpublisheddocument/643/637654971868530000" target="_blank">2021 Think Pink Cherokee Registration Form</a></p><p>If you have questions or need additional information, please contact Velinda Hardy at velinda.hardy@cantonga.gov&nbsp; You may pay registration by VENMO: cantongamainstreet@gmail.com Please make sure to include THINK PINK on the&nbsp; memo line and email your registration form to velinda.hardy@cantonga.gov&nbsp;</p><p style="text-align: left;">If mailing registration and payment, MAIL TO: Think Pink Cherokee, Attn: Velinda Hardy, 110 Academy Street&nbsp;Canton, GA 30114, and include a check payable to Canton Main Street.&nbsp;</p>
X-ALT-DESC;FMTTYPE=text/html:<p><strong>Think Pink Cherokee</strong></p><p>The City of Canton, Downtown Canton and Northside Hospital Cherokee would like to invite you to the ‘Think Pink&nbsp; Cherokee’ Breast Cancer Awareness Walk. This event on Saturday, October 9, will feature a one-mile informational&nbsp; walk in Downtown Canton, live entertainment, breast cancer awareness activities, and a walkers’ reception for all&nbsp; participants in the walk. The walk and registration will begin in Cannon Park. Registration begins at 9:00 am and the&nbsp; walk begins at 10:00 am.&nbsp;&nbsp;</p><p>Pre-registration for the event is $15.00. This includes walk participation, reception, and one ‘Think Pink’ T-shirt. If you&nbsp; would like to pre-register to assure you receive a t-shirt, please complete the requested information and return to the&nbsp; address or email indicated by September 17. Only one participant per registration form please. You may also register on the day of the event. Day-of registration is $20.00. Your requested shirt size will not be guaranteed if you do not pre-register. (All shirts must be picked up by October 29, 2021 if the participant chooses not to walk).&nbsp;</p><p><strong>Schedule of Events on October 9:&nbsp;</strong></p><ul>    <li>9:00 am Registration and T-shirt distribution, Cannon Park, Downtown Canton&nbsp;</li>    <li>10:00 am One-mile walk followed by walkers’ reception&nbsp;<br>    *Awareness activities will take place throughout the event </li></ul><p>&nbsp;<a href="https://canton.prod-as.govaccess.org/home/showpublisheddocument/643/637654971868530000" target="_blank">2021 Think Pink Cherokee Registration Form</a></p><p>If you have questions or need additional information, please contact Velinda Hardy at velinda.hardy@cantonga.gov&nbsp; You may pay registration by VENMO: cantongamainstreet@gmail.com Please make sure to include THINK PINK on the&nbsp; memo line and email your registration form to velinda.hardy@cantonga.gov&nbsp;</p><p style="text-align: left;">If mailing registration and payment, MAIL TO: Think Pink Cherokee, Attn: Velinda Hardy, 110 Academy Street&nbsp;Canton, GA 30114, and include a check payable to Canton Main Street.&nbsp;</p>
LOCATION:Downtown Canton\, 130 East Main Street Canton\, Georgia 30114
CLASS:PUBLIC
END:VEVENT
END:VCALENDAR
