BEGIN:VCALENDAR
VERSION:2.0
PRODID:Canton, GA Calendar Creator
METHOD:PUBLISH
BEGIN:VEVENT
DTSTAMP:20210819T100245
DTSTART:20211030T080000
DTEND:20211030T100000
SUMMARY:Born to RUN 5k - Reinhardt University
DESCRIPTION:<p></p><p></p>
X-ALT-DESC;FMTTYPE=text/html:<p></p><p></p>
LOCATION:Downtown Canton\, 130 East Main Street Canton\, Georgia 30114
CLASS:PUBLIC
END:VEVENT
END:VCALENDAR
