BEGIN:VCALENDAR
VERSION:2.0
PRODID:Canton, GA Calendar Creator
METHOD:PUBLISH
BEGIN:VEVENT
DTSTAMP:20210803T110324
DTSTART:20211106T190000
DTEND:20211106T210000
SUMMARY:Concert- Mixtape
DESCRIPTION:<p>Tickets at <a href="http://www.mixtapeatl.com/shows" target="_blank">mixtapeatl.com/shows</a></p><p>Forged in the neon of the most decadent of decades, MIXTAPE is the ultimate 80s tribute band experience. What if you could relive all of the sonic celebration and anthemic love that was 1980s pop and hit songs, for just one night?</p><p>Put your Ray-ban's on and step inside our time machine to enjoy the full on concert experience mirroring such artists as Madonna, Cyndi Lauper, Michael Jackson, Pat Benatar, Prince, The Bangles, Billy Idol, Blondie, and many many more!</p><p>Join us, by hopping into the magical musical universe we call MIXTAPE.</p><p>What's&nbsp;in your MIXTAPE?</p><p>&nbsp;</p><p></p>
X-ALT-DESC;FMTTYPE=text/html:<p>Tickets at <a href="http://www.mixtapeatl.com/shows" target="_blank">mixtapeatl.com/shows</a></p><p>Forged in the neon of the most decadent of decades, MIXTAPE is the ultimate 80s tribute band experience. What if you could relive all of the sonic celebration and anthemic love that was 1980s pop and hit songs, for just one night?</p><p>Put your Ray-ban's on and step inside our time machine to enjoy the full on concert experience mirroring such artists as Madonna, Cyndi Lauper, Michael Jackson, Pat Benatar, Prince, The Bangles, Billy Idol, Blondie, and many many more!</p><p>Join us, by hopping into the magical musical universe we call MIXTAPE.</p><p>What's&nbsp;in your MIXTAPE?</p><p>&nbsp;</p><p></p>
LOCATION:Canton Theatre\, 171 E Main St. Canton\, Georgia 30114
CLASS:PUBLIC
END:VEVENT
END:VCALENDAR
