BEGIN:VCALENDAR
VERSION:2.0
PRODID:Canton, GA Calendar Creator
METHOD:PUBLISH
BEGIN:VEVENT
DTSTAMP:20210811T104211
DTSTART:20211022T190000
DTEND:20211022T210000
SUMMARY:Feature Showing- The Shining
DESCRIPTION:<p>Tickets will be sold in person at the Canton Theatre Box Office. For information, email theatre@cantonga.gov</p><p></p>
X-ALT-DESC;FMTTYPE=text/html:<p>Tickets will be sold in person at the Canton Theatre Box Office. For information, email theatre@cantonga.gov</p><p></p>
LOCATION:Canton Theatre\, 171 E Main St. Canton\, Georgia 30114
CLASS:PUBLIC
END:VEVENT
END:VCALENDAR
