BEGIN:VCALENDAR
VERSION:2.0
PRODID:Canton, GA Calendar Creator
METHOD:PUBLISH
BEGIN:VEVENT
DTSTAMP:20210802T133856
DTSTART:20210924T200000
DTEND:20210924T220000
SUMMARY:Sweet Delilah Swim Club
DESCRIPTION:<p>Presented by Cherokee Theatre Company. For tickets, visit cherokeetheatre.org</p><p></p>
X-ALT-DESC;FMTTYPE=text/html:<p>Presented by Cherokee Theatre Company. For tickets, visit cherokeetheatre.org</p><p></p>
LOCATION:
CLASS:PUBLIC
END:VEVENT
END:VCALENDAR
