BEGIN:VCALENDAR
VERSION:2.0
PRODID:Canton, GA Calendar Creator
METHOD:PUBLISH
BEGIN:VEVENT
DTSTAMP:20210413T081017
DTSTART:20210912T000000
DTEND:20210912T235900
SUMMARY:Control Line Stunt Championship
DESCRIPTION:<h1>Southeastern Control Line Stunt Championships in CANTON Georgia, USA</h1><p>Event Date: Friday, September 10, 2021 - Sunday, September 12, 2021</p><p>&nbsp;</p><br><table>    <tbody>        <tr>            <td>Event:</td>            <td>Southeastern Control Line Stunt Championships</td>        </tr>        <tr>            <td>Event at:</td>            <td>600 Brown Industrial Pkwy</td>        </tr>        <tr>            <td>Email contact:</td>            <td><a href="mailto:&#106;&#100;3&#112;&#97;&#116;&#116;&#101;&#114;&#115;&#111;&#110;&#64;&#103;&#109;&#97;&#105;&#108;&#46;&#99;&#111;&#109;">Doug Patterson</a></td>        </tr>        <tr>            <td>Phone contact:</td>            <td>(225)270-2181</td>        </tr>        <tr>            <td>Local time:</td>            <td>-5 Zulu</td>        </tr>        <tr>            <td>Location:</td>            <td>CANTON, Georgia, USA</td>        </tr>    </tbody></table><p>&nbsp;</p><p>Events - Profile - unlimited end to .92 (B, I,A, E), Nostalgia 30 - (B, I,A, E), Appearance pts, OTS, Precision Aerobatics - (B, I,A, E) - appearance pts. (J)(S)(A) (B), (J-S-A) - I, A, E</p>
X-ALT-DESC;FMTTYPE=text/html:<h1>Southeastern Control Line Stunt Championships in CANTON Georgia, USA</h1><p>Event Date: Friday, September 10, 2021 - Sunday, September 12, 2021</p><p>&nbsp;</p><br><table>    <tbody>        <tr>            <td>Event:</td>            <td>Southeastern Control Line Stunt Championships</td>        </tr>        <tr>            <td>Event at:</td>            <td>600 Brown Industrial Pkwy</td>        </tr>        <tr>            <td>Email contact:</td>            <td><a href="mailto:&#106;&#100;3&#112;&#97;&#116;&#116;&#101;&#114;&#115;&#111;&#110;&#64;&#103;&#109;&#97;&#105;&#108;&#46;&#99;&#111;&#109;">Doug Patterson</a></td>        </tr>        <tr>            <td>Phone contact:</td>            <td>(225)270-2181</td>        </tr>        <tr>            <td>Local time:</td>            <td>-5 Zulu</td>        </tr>        <tr>            <td>Location:</td>            <td>CANTON, Georgia, USA</td>        </tr>    </tbody></table><p>&nbsp;</p><p>Events - Profile - unlimited end to .92 (B, I,A, E), Nostalgia 30 - (B, I,A, E), Appearance pts, OTS, Precision Aerobatics - (B, I,A, E) - appearance pts. (J)(S)(A) (B), (J-S-A) - I, A, E</p>
LOCATION:Etowah River Park\, 600 Brown Industrial Pkwy Canton\, Georgia 30114
CLASS:PUBLIC
END:VEVENT
END:VCALENDAR
