BEGIN:VCALENDAR
VERSION:2.0
PRODID:Canton, GA Calendar Creator
METHOD:PUBLISH
BEGIN:VEVENT
DTSTAMP:20210409T152747
DTSTART:20210418T000000
DTEND:20210418T235900
SUMMARY:Family and Friends Day
DESCRIPTION:<p>&nbsp;Family and Friends Day for Canton Police Department.</p><p>&nbsp;</p><p></p>
X-ALT-DESC;FMTTYPE=text/html:<p>&nbsp;Family and Friends Day for Canton Police Department.</p><p>&nbsp;</p><p></p>
LOCATION:Etowah River Park\, 600 Brown Industrial Pkwy Canton\, Georgia 30114
CLASS:PUBLIC
END:VEVENT
END:VCALENDAR
