BEGIN:VCALENDAR
VERSION:2.0
PRODID:Canton, GA Calendar Creator
METHOD:PUBLISH
BEGIN:VEVENT
DTSTAMP:20210409T130321
DTSTART:20210422T090000
DTEND:20210422T160000
SUMMARY:Earth Day/Arbor Day (Rescheduled)
DESCRIPTION:<p>April 22, 2021 is Earth Day. Due to Covid 19 event closures in the City. Arbor Day Seedlings will be handed out on Earth Day. This is the perfect Spring weather to plant seedlings. Please stop by Cannon Park in Downtown Canton to pick up free seedlings along with instructions on planting.&nbsp;</p><p>Also, don't forget Earth Day 2021 theme is "Restore our Earth".&nbsp; Please visit there website for more information about what you can do to help Earth and our Climate at&nbsp;<a href="http://https://www.earthday.org/earth-day-2021/" target="_blank">https://www.earthday.org/earth-day-2021/</a></p><p>&nbsp;</p>
X-ALT-DESC;FMTTYPE=text/html:<p>April 22, 2021 is Earth Day. Due to Covid 19 event closures in the City. Arbor Day Seedlings will be handed out on Earth Day. This is the perfect Spring weather to plant seedlings. Please stop by Cannon Park in Downtown Canton to pick up free seedlings along with instructions on planting.&nbsp;</p><p>Also, don't forget Earth Day 2021 theme is "Restore our Earth".&nbsp; Please visit there website for more information about what you can do to help Earth and our Climate at&nbsp;<a href="http://https://www.earthday.org/earth-day-2021/" target="_blank">https://www.earthday.org/earth-day-2021/</a></p><p>&nbsp;</p>
LOCATION:Cannon Park\, 130 East Main Street Canton\, Georgia 30114
CLASS:PUBLIC
END:VEVENT
END:VCALENDAR
