BEGIN:VCALENDAR
VERSION:2.0
PRODID:Canton, GA Calendar Creator
METHOD:PUBLISH
BEGIN:VEVENT
DTSTAMP:20210226T082716
DTSTART:20210227T080000
DTEND:20210227T235900
SUMMARY:Small Business Saturday
DESCRIPTION:<p>Shop local</p><p>&nbsp;</p><p>Shop small business</p>
X-ALT-DESC;FMTTYPE=text/html:<p>Shop local</p><p>&nbsp;</p><p>Shop small business</p>
LOCATION:
CLASS:PUBLIC
END:VEVENT
END:VCALENDAR
