BEGIN:VCALENDAR
VERSION:2.0
PRODID:Canton, GA Calendar Creator
METHOD:PUBLISH
BEGIN:VEVENT
DTSTAMP:20210329T125054
DTSTART:20211029T180000
DTEND:20211029T210000
SUMMARY:Downtown Canton Fifth Friday
DESCRIPTION:<p><span style="color: rgb(0, 0, 0);">We're bringing Fifth Friday back! Join us for an evening of music by <span style="color: rgb(227, 108, 9);">No Sweat</span>! Our shops will remain open late, the restaurants will be waiting to serve you and we'll have food and beverage vendors along Main Street. The Cruise In will be back (first come, first served only). <span style="color: rgb(227, 108, 9);">DON'T FORGET TO WEAR YOUR FAVORITE COSTUME!&nbsp;</span></span></p><p><span style="color: rgb(0, 0, 0);"></span></p>
X-ALT-DESC;FMTTYPE=text/html:<p><span style="color: rgb(0, 0, 0);">We're bringing Fifth Friday back! Join us for an evening of music by <span style="color: rgb(227, 108, 9);">No Sweat</span>! Our shops will remain open late, the restaurants will be waiting to serve you and we'll have food and beverage vendors along Main Street. The Cruise In will be back (first come, first served only). <span style="color: rgb(227, 108, 9);">DON'T FORGET TO WEAR YOUR FAVORITE COSTUME!&nbsp;</span></span></p><p><span style="color: rgb(0, 0, 0);"></span></p>
LOCATION:Downtown Canton\, 130 East Main Street Canton\, Georgia 30114
CLASS:PUBLIC
END:VEVENT
END:VCALENDAR
