BEGIN:VCALENDAR
VERSION:2.0
PRODID:Canton, GA Calendar Creator
METHOD:PUBLISH
BEGIN:VEVENT
DTSTAMP:20210329T124616
DTSTART:20211001T180000
DTEND:20211001T210000
SUMMARY:Downtown Canton First Friday
DESCRIPTION:<p>Who's ready for 80s night! Join us for an evening of music by <span style="color: rgb(79, 129, 189);">Electric Avenue</span>! Our shops will remain open late, the restaurants will be waiting to serve you and we'll have food and beverage vendors along Main Street. The Cruise In will be back (first come, first served only).</p><p></p>
X-ALT-DESC;FMTTYPE=text/html:<p>Who's ready for 80s night! Join us for an evening of music by <span style="color: rgb(79, 129, 189);">Electric Avenue</span>! Our shops will remain open late, the restaurants will be waiting to serve you and we'll have food and beverage vendors along Main Street. The Cruise In will be back (first come, first served only).</p><p></p>
LOCATION:Downtown Canton\, 130 East Main Street Canton\, Georgia 30114
CLASS:PUBLIC
END:VEVENT
END:VCALENDAR
