BEGIN:VCALENDAR
VERSION:2.0
PRODID:Canton, GA Calendar Creator
METHOD:PUBLISH
BEGIN:VEVENT
DTSTAMP:20210329T130100
DTSTART:20210903T180000
DTEND:20210903T210000
SUMMARY:Downtown Canton First Friday
DESCRIPTION:<p><span style="color: rgb(0, 0, 0);">Begin your Labor Day weekend in Downtown Canton!&nbsp; Join us for an evening of music by</span>&nbsp;<span style="color: rgb(79, 129, 189);">Trotline</span>! <span style="color: rgb(0, 0, 0);">Our shops will remain open late, the restaurants will be waiting to serve you and we'll have food and beverage vendors along Main Street. The Cruise In will be back (first come, first served only).</span></p><p></p>
X-ALT-DESC;FMTTYPE=text/html:<p><span style="color: rgb(0, 0, 0);">Begin your Labor Day weekend in Downtown Canton!&nbsp; Join us for an evening of music by</span>&nbsp;<span style="color: rgb(79, 129, 189);">Trotline</span>! <span style="color: rgb(0, 0, 0);">Our shops will remain open late, the restaurants will be waiting to serve you and we'll have food and beverage vendors along Main Street. The Cruise In will be back (first come, first served only).</span></p><p></p>
LOCATION:Downtown Canton\, 130 East Main Street Canton\, Georgia 30114
CLASS:PUBLIC
END:VEVENT
END:VCALENDAR
