BEGIN:VCALENDAR
VERSION:2.0
PRODID:Canton, GA Calendar Creator
METHOD:PUBLISH
BEGIN:VEVENT
DTSTAMP:20210329T125930
DTSTART:20210806T180000
DTEND:20210806T210000
SUMMARY:Downtown Canton First Friday
DESCRIPTION:<span style="color: rgb(0, 0, 0);">It's time to celebrate Summer! Join us for an evening of music by</span> <span style="color: rgb(79, 129, 189);">The Ultimate Eagles Tribute - On The Border</span><span style="color: rgb(0, 0, 0);">! Our shops will remain open late, the restaurants will be waiting to serve you and we'll have food and beverage vendors along Main Street. The Cruise In will be back (first come, first served only).</span>
X-ALT-DESC;FMTTYPE=text/html:<span style="color: rgb(0, 0, 0);">It's time to celebrate Summer! Join us for an evening of music by</span> <span style="color: rgb(79, 129, 189);">The Ultimate Eagles Tribute - On The Border</span><span style="color: rgb(0, 0, 0);">! Our shops will remain open late, the restaurants will be waiting to serve you and we'll have food and beverage vendors along Main Street. The Cruise In will be back (first come, first served only).</span>
LOCATION:Downtown Canton\, 130 East Main Street Canton\, Georgia 30114
CLASS:PUBLIC
END:VEVENT
END:VCALENDAR
