BEGIN:VCALENDAR
VERSION:2.0
PRODID:Canton, GA Calendar Creator
METHOD:PUBLISH
BEGIN:VEVENT
DTSTAMP:20210329T125507
DTSTART:20210507T180000
DTEND:20210507T210000
SUMMARY:Downtown Canton First Friday
DESCRIPTION:<p><span style="color: rgb(0, 0, 0);">It's time to kickoff the 2021 First Friday concert series! Join us for an evening of music by <span style="color: rgb(79, 129, 189);">Whiskey Holler, Todd &amp; Marissa and the 293 Band</span>! Our shops will remain open late, the restaurants will be waiting to serve you and we'll have food and beverage vendors along Main Street. The Cruise In will be back (first come, first served only).</span> </p><div unselectable="on" class="rrHandle rrSW" style="position: absolute; cursor: sw-resize; z-index: auto; height: 7px; width: 7px; top: 356.5px; left: 17.5px;"></div><div unselectable="on" class="rrHandle rrS" style="position: absolute; cursor: s-resize; z-index: auto; height: 7px; width: 7px; top: 356.5px; left: 295.5px;"></div><div unselectable="on" class="rrHandle rrSE" style="position: absolute; cursor: se-resize; z-index: auto; height: 7px; width: 7px; top: 356.5px; left: 573.5px;"></div><div unselectable="on" class="rrHandle rrE" style="position: absolute; cursor: e-resize; z-index: auto; height: 7px; width: 7px; top: 250.5px; left: 573.5px;"></div><div unselectable="on" class="rrHandle rrNE" style="position: absolute; cursor: ne-resize; z-index: auto; height: 7px; width: 7px; top: 144.5px; left: 573.5px;"></div><div unselectable="on" class="rrHandle rrN" style="position: absolute; cursor: n-resize; z-index: auto; height: 7px; width: 7px; top: 144.5px; left: 295.5px;"></div><div unselectable="on" class="rrHandle rrNW" style="position: absolute; cursor: nw-resize; z-index: auto; height: 7px; width: 7px; top: 144.5px; left: 17.5px;"></div><div unselectable="on" class="rrHandle rrW" style="position: absolute; cursor: w-resize; z-index: auto; height: 7px; width: 7px; top: 250.5px; left: 17.5px;"></div>
X-ALT-DESC;FMTTYPE=text/html:<p><span style="color: rgb(0, 0, 0);">It's time to kickoff the 2021 First Friday concert series! Join us for an evening of music by <span style="color: rgb(79, 129, 189);">Whiskey Holler, Todd &amp; Marissa and the 293 Band</span>! Our shops will remain open late, the restaurants will be waiting to serve you and we'll have food and beverage vendors along Main Street. The Cruise In will be back (first come, first served only).</span> </p><div unselectable="on" class="rrHandle rrSW" style="position: absolute; cursor: sw-resize; z-index: auto; height: 7px; width: 7px; top: 356.5px; left: 17.5px;"></div><div unselectable="on" class="rrHandle rrS" style="position: absolute; cursor: s-resize; z-index: auto; height: 7px; width: 7px; top: 356.5px; left: 295.5px;"></div><div unselectable="on" class="rrHandle rrSE" style="position: absolute; cursor: se-resize; z-index: auto; height: 7px; width: 7px; top: 356.5px; left: 573.5px;"></div><div unselectable="on" class="rrHandle rrE" style="position: absolute; cursor: e-resize; z-index: auto; height: 7px; width: 7px; top: 250.5px; left: 573.5px;"></div><div unselectable="on" class="rrHandle rrNE" style="position: absolute; cursor: ne-resize; z-index: auto; height: 7px; width: 7px; top: 144.5px; left: 573.5px;"></div><div unselectable="on" class="rrHandle rrN" style="position: absolute; cursor: n-resize; z-index: auto; height: 7px; width: 7px; top: 144.5px; left: 295.5px;"></div><div unselectable="on" class="rrHandle rrNW" style="position: absolute; cursor: nw-resize; z-index: auto; height: 7px; width: 7px; top: 144.5px; left: 17.5px;"></div><div unselectable="on" class="rrHandle rrW" style="position: absolute; cursor: w-resize; z-index: auto; height: 7px; width: 7px; top: 250.5px; left: 17.5px;"></div>
LOCATION:Downtown Canton\, 130 East Main Street Canton\, Georgia 30114
CLASS:PUBLIC
END:VEVENT
END:VCALENDAR
