BEGIN:VCALENDAR
VERSION:2.0
PRODID:Canton, GA Calendar Creator
METHOD:PUBLISH
BEGIN:VEVENT
DTSTAMP:20250417T121806
DTSTART:20250422T190000
DTEND:20250422T210000
SUMMARY:Canton City Limits: Open Mic Night
DESCRIPTION:<p>Join us Tuesday, April 22nd for Canton Theatre's Open Mic Night! Admission is free for a night of live, local performers!</p><p>&nbsp;Sign-ups for this event are now&nbsp;<strong>closed</strong>! Selected performers should expect an email in the coming days with more details.</p><p>There will be an in-person sign-up on the night of the show, however, those who sign the in-person list are not guaranteed a spot to perform, depending on time allotted during the event.</p><p></p>
X-ALT-DESC;FMTTYPE=text/html:<p>Join us Tuesday, April 22nd for Canton Theatre's Open Mic Night! Admission is free for a night of live, local performers!</p><p>&nbsp;Sign-ups for this event are now&nbsp;<strong>closed</strong>! Selected performers should expect an email in the coming days with more details.</p><p>There will be an in-person sign-up on the night of the show, however, those who sign the in-person list are not guaranteed a spot to perform, depending on time allotted during the event.</p><p></p>
LOCATION:Canton Theatre\, 171 E Main St. Canton\, Georgia 30114
CLASS:PUBLIC
END:VEVENT
END:VCALENDAR
