BEGIN:VCALENDAR
VERSION:2.0
PRODID:Canton, GA Calendar Creator
METHOD:PUBLISH
BEGIN:VEVENT
DTSTAMP:20250303T122015
DTSTART:20250403T193000
DTEND:20250403T213000
SUMMARY:Wonderland: Jr. Musical
DESCRIPTION:<p>&nbsp;Lolek's Storytellers invites you to Wonderland: Jr. Musical</p><p>A young girl named Alice falls down a rabbit hole and enters a surreal world called Wonderland, where she encounters talking animals, bizarre creatures, and experiences strange transformations, all while navigating a nonsensical and often illogical environment, often reflecting on the confusing nature of growing up. Rock through the centuries in this modern retelling of the classic tale.</p><p>Tickets available at loleksstorytellers.com</p><p></p>
X-ALT-DESC;FMTTYPE=text/html:<p>&nbsp;Lolek's Storytellers invites you to Wonderland: Jr. Musical</p><p>A young girl named Alice falls down a rabbit hole and enters a surreal world called Wonderland, where she encounters talking animals, bizarre creatures, and experiences strange transformations, all while navigating a nonsensical and often illogical environment, often reflecting on the confusing nature of growing up. Rock through the centuries in this modern retelling of the classic tale.</p><p>Tickets available at loleksstorytellers.com</p><p></p>
LOCATION:Canton Theatre\, 171 E Main St. Canton\, Georgia 30114
CLASS:PUBLIC
END:VEVENT
END:VCALENDAR
