BEGIN:VCALENDAR
VERSION:2.0
PRODID:Canton, GA Calendar Creator
METHOD:PUBLISH
BEGIN:VEVENT
DTSTAMP:20250224T092742
DTSTART:20250301T190000
DTEND:20250301T220000
SUMMARY:Glow Night
DESCRIPTION:<div x11i5rnm="" xat24cr="" x1mh8g0r="" x1vvkbs"="">Bring out the family and join us for GLOW NIGHT!</div><div xat24cr="" x1mh8g0r="" x1vvkbs="" xtlvy1s"="">We'll have interactive GLOW games for all ages!</div><p xat24cr="" x1mh8g0r="" x1vvkbs=""><div xat24cr="" x1mh8g0r="" x1vvkbs="" xtlvy1s"=""></div></p><div xat24cr="" x1mh8g0r="" x1vvkbs="" xtlvy1s"="">18 Holes Glow Mini Golf<br>Glow Spike Ball<br>Glow Corn Hole<br>Glow Bucket Pong<br>Glow Kan Jam<br>Paddle Smash<br>and<br>DJ Thomas will be with us again spinning some tunes!</div><p xat24cr="" x1mh8g0r="" x1vvkbs=""><div xat24cr="" x1mh8g0r="" x1vvkbs="" xtlvy1s"=""></div></p><div xat24cr="" x1mh8g0r="" x1vvkbs="" xtlvy1s"="">THANK YOU TO OUR GLOW NIGHT SPONSORS:<br>Capital Recovery Corporation<br>Maria Sims Group - Keller Williams Realty Partners</div>
X-ALT-DESC;FMTTYPE=text/html:<div x11i5rnm="" xat24cr="" x1mh8g0r="" x1vvkbs"="">Bring out the family and join us for GLOW NIGHT!</div><div xat24cr="" x1mh8g0r="" x1vvkbs="" xtlvy1s"="">We'll have interactive GLOW games for all ages!</div><p xat24cr="" x1mh8g0r="" x1vvkbs=""><div xat24cr="" x1mh8g0r="" x1vvkbs="" xtlvy1s"=""></div></p><div xat24cr="" x1mh8g0r="" x1vvkbs="" xtlvy1s"="">18 Holes Glow Mini Golf<br>Glow Spike Ball<br>Glow Corn Hole<br>Glow Bucket Pong<br>Glow Kan Jam<br>Paddle Smash<br>and<br>DJ Thomas will be with us again spinning some tunes!</div><p xat24cr="" x1mh8g0r="" x1vvkbs=""><div xat24cr="" x1mh8g0r="" x1vvkbs="" xtlvy1s"=""></div></p><div xat24cr="" x1mh8g0r="" x1vvkbs="" xtlvy1s"="">THANK YOU TO OUR GLOW NIGHT SPONSORS:<br>Capital Recovery Corporation<br>Maria Sims Group - Keller Williams Realty Partners</div>
LOCATION:Downtown Canton\, 130 East Main Street Canton\, Georgia 30114
CLASS:PUBLIC
END:VEVENT
END:VCALENDAR
