BEGIN:VCALENDAR
VERSION:2.0
PRODID:Canton, GA Calendar Creator
METHOD:PUBLISH
BEGIN:VEVENT
DTSTAMP:20250220T155048
DTSTART:20250315T120000
DTEND:20250315T220000
SUMMARY:Shamrock Shuffle
DESCRIPTION:<div x11i5rnm="" xat24cr="" x1mh8g0r="" x1vvkbs"="">Shamrock Shuffle: A St. Patrick’s Day Pub Crawl Downtown Canton &amp; The Mill on Etowah&nbsp;</div><p x11i5rnm="" xat24cr="" x1mh8g0r=""><div x11i5rnm="" xat24cr="" x1mh8g0r="" x1vvkbs"=""></div></p><div xat24cr="" x1mh8g0r="" x1vvkbs="" xtlvy1s"=""><strong>DATE: </strong>March 15<br><strong>TIME: </strong>12:00 PM - 10:00 PM<br><strong>TICKETS: </strong>$30 (includes 2 drink tickets)</div><p xat24cr="" x1mh8g0r="" x1vvkbs=""><div xat24cr="" x1mh8g0r="" x1vvkbs="" xtlvy1s"=""></div></p><div xat24cr="" x1mh8g0r="" x1vvkbs="" xtlvy1s"="">Get ready to SHAMROCK &amp; ROLL this St. Patrick’s Day at the Shamrock Shuffle! With 12+ drink stops, it’s the ultimate way to celebrate with friends while exploring the best of Downtown Canton and The Mill on Etowah.&nbsp;</div><p xat24cr="" x1mh8g0r="" x1vvkbs=""><div xat24cr="" x1mh8g0r="" x1vvkbs="" xtlvy1s"=""></div></p><div xat24cr="" x1mh8g0r="" x1vvkbs="" xtlvy1s"="">&nbsp;<strong>What your ticket includes:</strong></div><div xat24cr="" x1mh8g0r="" x1vvkbs="" xtlvy1s"="">Two drink tickets to redeem at participating drink stops.</div><div xat24cr="" x1mh8g0r="" x1vvkbs="" xtlvy1s"="">Access to St. Patrick’s Day shuttles, running between 4 convenient stops across Downtown Canton and The Mill.</div><div xat24cr="" x1mh8g0r="" x1vvkbs="" xtlvy1s"="">Live music downtown and on stage at The Mill throughout the day.</div><p xat24cr="" x1mh8g0r="" x1vvkbs=""><div xat24cr="" x1mh8g0r="" x1vvkbs="" xtlvy1s"=""></div></p><div xat24cr="" x1mh8g0r="" x1vvkbs="" xtlvy1s"=""><strong>When?</strong><br>March 15th, 12:00 PM - 10:00 PM&nbsp;</div><p xat24cr="" x1mh8g0r="" x1vvkbs=""><div xat24cr="" x1mh8g0r="" x1vvkbs="" xtlvy1s"=""></div></p><div xat24cr="" x1mh8g0r="" x1vvkbs="" xtlvy1s"=""><strong>Where?</strong><br>Downtown Canton &amp; The Mill on Etowah.</div><p xat24cr="" x1mh8g0r="" x1vvkbs=""><div xat24cr="" x1mh8g0r="" x1vvkbs="" xtlvy1s"=""></div></p><div xat24cr="" x1mh8g0r="" x1vvkbs="" xtlvy1s"="">&nbsp;<strong>Participating bars include:</strong><br>Will be announcing soon!</div><p xat24cr="" x1mh8g0r="" x1vvkbs=""><div xat24cr="" x1mh8g0r="" x1vvkbs="" xtlvy1s"=""></div></p><div xat24cr="" x1mh8g0r="" x1vvkbs="" xtlvy1s"=""><strong>How it works:</strong><br>• Pick up your Shamrock Shuffle cup, lanyard with a map, and drink tickets at check in.&nbsp;<br>• Hop on shuttles to explore the best of both Downtown Canton and The Mill on Etowah.<br>• Enjoy live music and St. Patrick’s Day vibes at our downtown and Mill stage!!&nbsp;</div><p xat24cr="" x1mh8g0r="" x1vvkbs=""><div xat24cr="" x1mh8g0r="" x1vvkbs="" xtlvy1s"=""></div></p><div xat24cr="" x1mh8g0r="" x1vvkbs="" xtlvy1s"="">Don’t wait—tickets are limited! Grab yours now and join us for a day filled with Irish cheer, unforgettable drinks, and festive fun. Sláinte!</div>
X-ALT-DESC;FMTTYPE=text/html:<div x11i5rnm="" xat24cr="" x1mh8g0r="" x1vvkbs"="">Shamrock Shuffle: A St. Patrick’s Day Pub Crawl Downtown Canton &amp; The Mill on Etowah&nbsp;</div><p x11i5rnm="" xat24cr="" x1mh8g0r=""><div x11i5rnm="" xat24cr="" x1mh8g0r="" x1vvkbs"=""></div></p><div xat24cr="" x1mh8g0r="" x1vvkbs="" xtlvy1s"=""><strong>DATE: </strong>March 15<br><strong>TIME: </strong>12:00 PM - 10:00 PM<br><strong>TICKETS: </strong>$30 (includes 2 drink tickets)</div><p xat24cr="" x1mh8g0r="" x1vvkbs=""><div xat24cr="" x1mh8g0r="" x1vvkbs="" xtlvy1s"=""></div></p><div xat24cr="" x1mh8g0r="" x1vvkbs="" xtlvy1s"="">Get ready to SHAMROCK &amp; ROLL this St. Patrick’s Day at the Shamrock Shuffle! With 12+ drink stops, it’s the ultimate way to celebrate with friends while exploring the best of Downtown Canton and The Mill on Etowah.&nbsp;</div><p xat24cr="" x1mh8g0r="" x1vvkbs=""><div xat24cr="" x1mh8g0r="" x1vvkbs="" xtlvy1s"=""></div></p><div xat24cr="" x1mh8g0r="" x1vvkbs="" xtlvy1s"="">&nbsp;<strong>What your ticket includes:</strong></div><div xat24cr="" x1mh8g0r="" x1vvkbs="" xtlvy1s"="">Two drink tickets to redeem at participating drink stops.</div><div xat24cr="" x1mh8g0r="" x1vvkbs="" xtlvy1s"="">Access to St. Patrick’s Day shuttles, running between 4 convenient stops across Downtown Canton and The Mill.</div><div xat24cr="" x1mh8g0r="" x1vvkbs="" xtlvy1s"="">Live music downtown and on stage at The Mill throughout the day.</div><p xat24cr="" x1mh8g0r="" x1vvkbs=""><div xat24cr="" x1mh8g0r="" x1vvkbs="" xtlvy1s"=""></div></p><div xat24cr="" x1mh8g0r="" x1vvkbs="" xtlvy1s"=""><strong>When?</strong><br>March 15th, 12:00 PM - 10:00 PM&nbsp;</div><p xat24cr="" x1mh8g0r="" x1vvkbs=""><div xat24cr="" x1mh8g0r="" x1vvkbs="" xtlvy1s"=""></div></p><div xat24cr="" x1mh8g0r="" x1vvkbs="" xtlvy1s"=""><strong>Where?</strong><br>Downtown Canton &amp; The Mill on Etowah.</div><p xat24cr="" x1mh8g0r="" x1vvkbs=""><div xat24cr="" x1mh8g0r="" x1vvkbs="" xtlvy1s"=""></div></p><div xat24cr="" x1mh8g0r="" x1vvkbs="" xtlvy1s"="">&nbsp;<strong>Participating bars include:</strong><br>Will be announcing soon!</div><p xat24cr="" x1mh8g0r="" x1vvkbs=""><div xat24cr="" x1mh8g0r="" x1vvkbs="" xtlvy1s"=""></div></p><div xat24cr="" x1mh8g0r="" x1vvkbs="" xtlvy1s"=""><strong>How it works:</strong><br>• Pick up your Shamrock Shuffle cup, lanyard with a map, and drink tickets at check in.&nbsp;<br>• Hop on shuttles to explore the best of both Downtown Canton and The Mill on Etowah.<br>• Enjoy live music and St. Patrick’s Day vibes at our downtown and Mill stage!!&nbsp;</div><p xat24cr="" x1mh8g0r="" x1vvkbs=""><div xat24cr="" x1mh8g0r="" x1vvkbs="" xtlvy1s"=""></div></p><div xat24cr="" x1mh8g0r="" x1vvkbs="" xtlvy1s"="">Don’t wait—tickets are limited! Grab yours now and join us for a day filled with Irish cheer, unforgettable drinks, and festive fun. Sláinte!</div>
LOCATION:Downtown Canton\, 130 East Main Street Canton\, Georgia 30114
CLASS:PUBLIC
END:VEVENT
END:VCALENDAR
