BEGIN:VCALENDAR
VERSION:2.0
PRODID:Canton, GA Calendar Creator
METHOD:PUBLISH
BEGIN:VEVENT
DTSTAMP:20250131T084028
DTSTART:20250221T090000
DTEND:20250221T160000
SUMMARY:Arbor Day Celebration
DESCRIPTION:<p>&nbsp;Join us for our annual Arbor Day Celebration, Feb. 21, from 9 a.m.- 4 p.m., in beautiful  Downtown Canton. The City is celebrating 32 years as a Tree City with a plant sale and tree seedling giveaways. Plant experts will also be on hand to answer any questions you have! We hope to see you there to celebrate with us!</p><p></p>
X-ALT-DESC;FMTTYPE=text/html:<p>&nbsp;Join us for our annual Arbor Day Celebration, Feb. 21, from 9 a.m.- 4 p.m., in beautiful  Downtown Canton. The City is celebrating 32 years as a Tree City with a plant sale and tree seedling giveaways. Plant experts will also be on hand to answer any questions you have! We hope to see you there to celebrate with us!</p><p></p>
LOCATION:Downtown Canton\, 130 East Main Street Canton\, Georgia 30114
CLASS:PUBLIC
END:VEVENT
END:VCALENDAR
