BEGIN:VCALENDAR
VERSION:2.0
PRODID:Canton, GA Calendar Creator
METHOD:PUBLISH
BEGIN:VEVENT
DTSTAMP:20250121T112817
DTSTART:20250226T190000
DTEND:20250226T203000
SUMMARY:All Call Dance Class - the Inaugural Class!
DESCRIPTION:<p>Calling all performers!! Whether you're new to the world of musical theatre or looking to stretch your skills, this is the class for you!</p><p>Join us Wednesday, February 26th at 7:00PM for the inaugural 'All Call Dance Class'!</p><p>This class focuses on creating a low-stress, confidence building, and <em><strong>always</strong></em> fun dance call-styled environment&nbsp;<em>without</em>&nbsp;the added stress of an audition! Each week we will present a new musical theatre song, choreographed by a local choreographer, and together we will dance, break a sweat and, most importantly, have fun!</p><p>Spots will open up on February 1st and can be purchased&nbsp;<a href="https://cantonga.governmentwindow.com/estore/theater/canton-theatre.html" target="_blank">here</a>&nbsp;for only $10! There are only 12 spots available, so be sure to grab yours before they're all gone!</p><p>This class is 16+.</p><p></p>
X-ALT-DESC;FMTTYPE=text/html:<p>Calling all performers!! Whether you're new to the world of musical theatre or looking to stretch your skills, this is the class for you!</p><p>Join us Wednesday, February 26th at 7:00PM for the inaugural 'All Call Dance Class'!</p><p>This class focuses on creating a low-stress, confidence building, and <em><strong>always</strong></em> fun dance call-styled environment&nbsp;<em>without</em>&nbsp;the added stress of an audition! Each week we will present a new musical theatre song, choreographed by a local choreographer, and together we will dance, break a sweat and, most importantly, have fun!</p><p>Spots will open up on February 1st and can be purchased&nbsp;<a href="https://cantonga.governmentwindow.com/estore/theater/canton-theatre.html" target="_blank">here</a>&nbsp;for only $10! There are only 12 spots available, so be sure to grab yours before they're all gone!</p><p>This class is 16+.</p><p></p>
LOCATION:Canton Theatre\, 171 E Main St. Canton\, Georgia 30114
CLASS:PUBLIC
END:VEVENT
END:VCALENDAR
