BEGIN:VCALENDAR
VERSION:2.0
PRODID:Canton, GA Calendar Creator
METHOD:PUBLISH
BEGIN:VEVENT
DTSTAMP:20250116T112825
DTSTART:20250215T110000
DTEND:20250215T170000
SUMMARY:Chocolate Walk
DESCRIPTION:<div x11i5rnm="" xat24cr="" x1mh8g0r="" x1vvkbs"="">It's the SWEETEST event of the year! The Downtown Canton Chocolate Walk is Saturday, February 15, from 11 a.m.-5 p.m.</div><div  x11i5rnm="" xat24cr="" x1mh8g0r="" x1vvkbs"="">Visit, get to know our Downtown businesses and enjoy some sweet treats. For tickets, <strong><a href="https://www.eventeny.com/events/ticket/?id=16955&amp;action=ticket&amp;action_ticket=29114&amp;fbclid=IwY2xjawH2EjNleHRuA2FlbQIxMAABHblJKuufBRBFbqEPS6H47LTn6_aK3ObAyNLD5ObOD20RfJffYqMftZgF_Q_aem_Ym3xPTkoFMmUt3yHxEwnqA" target="_blank">click here</a></strong>.&nbsp;</div><div xat24cr="" x1mh8g0r="" x1vvkbs="" xtlvy1s"="">&nbsp;</div><div xat24cr="" x1mh8g0r="" x1vvkbs="" xtlvy1s"="">CHECK IN will be at the JONES BUILDING from 11 a.m. -2 p.m.&nbsp;</div><p xat24cr="" x1mh8g0r="" x1vvkbs=""><div xat24cr="" x1mh8g0r="" x1vvkbs="" xtlvy1s"=""></div></p>
X-ALT-DESC;FMTTYPE=text/html:<div x11i5rnm="" xat24cr="" x1mh8g0r="" x1vvkbs"="">It's the SWEETEST event of the year! The Downtown Canton Chocolate Walk is Saturday, February 15, from 11 a.m.-5 p.m.</div><div  x11i5rnm="" xat24cr="" x1mh8g0r="" x1vvkbs"="">Visit, get to know our Downtown businesses and enjoy some sweet treats. For tickets, <strong><a href="https://www.eventeny.com/events/ticket/?id=16955&amp;action=ticket&amp;action_ticket=29114&amp;fbclid=IwY2xjawH2EjNleHRuA2FlbQIxMAABHblJKuufBRBFbqEPS6H47LTn6_aK3ObAyNLD5ObOD20RfJffYqMftZgF_Q_aem_Ym3xPTkoFMmUt3yHxEwnqA" target="_blank">click here</a></strong>.&nbsp;</div><div xat24cr="" x1mh8g0r="" x1vvkbs="" xtlvy1s"="">&nbsp;</div><div xat24cr="" x1mh8g0r="" x1vvkbs="" xtlvy1s"="">CHECK IN will be at the JONES BUILDING from 11 a.m. -2 p.m.&nbsp;</div><p xat24cr="" x1mh8g0r="" x1vvkbs=""><div xat24cr="" x1mh8g0r="" x1vvkbs="" xtlvy1s"=""></div></p>
LOCATION:Downtown Canton\, 130 East Main Street Canton\, Georgia 30114
CLASS:PUBLIC
END:VEVENT
END:VCALENDAR
