BEGIN:VCALENDAR
VERSION:2.0
PRODID:Canton, GA Calendar Creator
METHOD:PUBLISH
BEGIN:VEVENT
DTSTAMP:20250213T140314
DTSTART:20250222T190000
DTEND:20250222T210000
SUMMARY:GlowBand presents 'Tribute to our Heroes of Southern Rock'
DESCRIPTION:<p>The 'Tribute to our Heroes of Southern Rock' show features Southern Rock Hits performed by the sensational Glowband. These hits are more than just music - they are a captivating journey through the soulful sounds of the Southlands.</p><p>Each note played is a testament to the band's passion for their craft and their dedication to delivering an unforgettable experience to their audience. With their electrifying energy and undeniable talent, Glowband ignites a spark in the hearts of all who have the pleasure of listening, leaving a lasting impression that resonates long after the final chord fades away.</p><p>This concert will includes songs from iconic bands like Lynyrd Skynyrd, 38 Special, The Outlaws, Allman Brothers, Elvin Bishop, Charlie Daniels Band, ZZ Top, and many more!</p><p>Join us Saturday, February 22nd! Tickets are now available and can be purchased&nbsp;<a href="https://theglowband.com/tc_seat_charts/canton-theatre-february-22/" target="_blank">here!</a></p><p></p>
X-ALT-DESC;FMTTYPE=text/html:<p>The 'Tribute to our Heroes of Southern Rock' show features Southern Rock Hits performed by the sensational Glowband. These hits are more than just music - they are a captivating journey through the soulful sounds of the Southlands.</p><p>Each note played is a testament to the band's passion for their craft and their dedication to delivering an unforgettable experience to their audience. With their electrifying energy and undeniable talent, Glowband ignites a spark in the hearts of all who have the pleasure of listening, leaving a lasting impression that resonates long after the final chord fades away.</p><p>This concert will includes songs from iconic bands like Lynyrd Skynyrd, 38 Special, The Outlaws, Allman Brothers, Elvin Bishop, Charlie Daniels Band, ZZ Top, and many more!</p><p>Join us Saturday, February 22nd! Tickets are now available and can be purchased&nbsp;<a href="https://theglowband.com/tc_seat_charts/canton-theatre-february-22/" target="_blank">here!</a></p><p></p>
LOCATION:Canton Theatre\, 171 E Main St. Canton\, Georgia 30114
CLASS:PUBLIC
END:VEVENT
END:VCALENDAR
