BEGIN:VCALENDAR
VERSION:2.0
PRODID:Canton, GA Calendar Creator
METHOD:PUBLISH
BEGIN:VEVENT
DTSTAMP:20241230T155929
DTSTART:20250418T190000
DTEND:20250418T210000
SUMMARY:Retro Movie Series - Clueless
DESCRIPTION:<p>It's time for a blast from the past!</p><p>Join us Friday, April 18th at 7pm for Clueless!</p><p>Tickets are $5 and will be available at 9am on April 5th <a href="https://cantonga.governmentwindow.com/estore/theater/canton-theatre.html" target="_blank">here!</a></p><p>( This movie is rated PG-13 for sex related dialogue and some teen use of alcohol and drugs )</p><p></p>
X-ALT-DESC;FMTTYPE=text/html:<p>It's time for a blast from the past!</p><p>Join us Friday, April 18th at 7pm for Clueless!</p><p>Tickets are $5 and will be available at 9am on April 5th <a href="https://cantonga.governmentwindow.com/estore/theater/canton-theatre.html" target="_blank">here!</a></p><p>( This movie is rated PG-13 for sex related dialogue and some teen use of alcohol and drugs )</p><p></p>
LOCATION:Canton Theatre\, 171 E Main St. Canton\, Georgia 30114
CLASS:PUBLIC
END:VEVENT
END:VCALENDAR
