BEGIN:VCALENDAR
VERSION:2.0
PRODID:Canton, GA Calendar Creator
METHOD:PUBLISH
BEGIN:VEVENT
DTSTAMP:20241030T141618
DTSTART:20241126T160000
DTEND:20241126T190000
SUMMARY:Shopping By Lantern Light
DESCRIPTION:<p></p><p>Join us on the nights of Tuesday October 15 and November 26 for a special evening edition of the&nbsp;<a href="https://explorecantonga.com/events/annual-events/canton-ga-farmers-market/" target="_blank">Canton Farmers Market</a>&nbsp;at this year's "Shopping by Lantern Light!"<br>Browse for your Farmers Market favorites, as well as Thanksgiving goodies such as fresh produce, cakes, pies, bread, cookies, fresh flowers, party trays, decorated cookie kits, and more!</p>
X-ALT-DESC;FMTTYPE=text/html:<p></p><p>Join us on the nights of Tuesday October 15 and November 26 for a special evening edition of the&nbsp;<a href="https://explorecantonga.com/events/annual-events/canton-ga-farmers-market/" target="_blank">Canton Farmers Market</a>&nbsp;at this year's "Shopping by Lantern Light!"<br>Browse for your Farmers Market favorites, as well as Thanksgiving goodies such as fresh produce, cakes, pies, bread, cookies, fresh flowers, party trays, decorated cookie kits, and more!</p>
LOCATION:Downtown Canton\, 130 East Main Street Canton\, Georgia 30114
CLASS:PUBLIC
END:VEVENT
END:VCALENDAR
