BEGIN:VCALENDAR
VERSION:2.0
PRODID:Canton, GA Calendar Creator
METHOD:PUBLISH
BEGIN:VEVENT
DTSTAMP:20241030T114628
DTSTART:20241214T120000
DTEND:20241214T180000
SUMMARY:37th Annual Merry Market
DESCRIPTION:<p></p><p>Join us for a fun afternoon of shopping with small business vendors, visit with Santa, live entertainment, arts &amp; crafts, food and more! Once the Market ends, the Canton Christmas Parade begins at 6pm!</p><p>**All proceeds benefit the Canton Optimist Club</p>
X-ALT-DESC;FMTTYPE=text/html:<p></p><p>Join us for a fun afternoon of shopping with small business vendors, visit with Santa, live entertainment, arts &amp; crafts, food and more! Once the Market ends, the Canton Christmas Parade begins at 6pm!</p><p>**All proceeds benefit the Canton Optimist Club</p>
LOCATION:Downtown Canton\, 130 East Main Street Canton\, Georgia 30114
CLASS:PUBLIC
END:VEVENT
END:VCALENDAR
