BEGIN:VCALENDAR
VERSION:2.0
PRODID:Canton, GA Calendar Creator
METHOD:PUBLISH
BEGIN:VEVENT
DTSTAMP:20241030T115246
DTSTART:20241213T180000
DTEND:20241213T210000
SUMMARY:Christmas in Canton
DESCRIPTION:<p></p><p>You’re invited to join us for Christmas in Canton! Activities will include a visit with Santa, petting zoo, face painting, balloon artist, s'mores station, inflatables, decorated cookie station, make and take crafts, Christmas Pete and more! Our shops will be open late to assist you with finding the perfect gift and our restaurants will be ready to welcome you.</p>
X-ALT-DESC;FMTTYPE=text/html:<p></p><p>You’re invited to join us for Christmas in Canton! Activities will include a visit with Santa, petting zoo, face painting, balloon artist, s'mores station, inflatables, decorated cookie station, make and take crafts, Christmas Pete and more! Our shops will be open late to assist you with finding the perfect gift and our restaurants will be ready to welcome you.</p>
LOCATION:Downtown Canton\, 130 East Main Street Canton\, Georgia 30114
CLASS:PUBLIC
END:VEVENT
END:VCALENDAR
