BEGIN:VCALENDAR
VERSION:2.0
PRODID:Canton, GA Calendar Creator
METHOD:PUBLISH
BEGIN:VEVENT
DTSTAMP:20240924T102058
DTSTART:20241010T183000
DTEND:20241010T213000
SUMMARY:Taste of Canton
DESCRIPTION:<p>Back for its 2nd year... Taste of Canton!<br><br>Come and try all of your favorite local restaurants in one evening at The Mill on Etowah!</p><p>Taste of Canton is an opportunity for Canton restaurateurs to promote their unique cuisine to the greater community.</p><p><strong>What can you expect?</strong></p><ul>    <li>Sample delicious appetizers, entrees, coffees, and desserts from Canton’s extraordinary chefs and restaurateurs</li>    <li>Free Admission</li>    <li>Live Music</li>    <li>Cash bar cocktails, wine, and beer on-site</li></ul><p>RAIN OR SHINE<br>Get tasting tickets&nbsp;<a href="https://www.eventeny.com/events/ticket/?id=10803" target="_blank" rel="noreferrer noopener">HERE</a>!</p>
X-ALT-DESC;FMTTYPE=text/html:<p>Back for its 2nd year... Taste of Canton!<br><br>Come and try all of your favorite local restaurants in one evening at The Mill on Etowah!</p><p>Taste of Canton is an opportunity for Canton restaurateurs to promote their unique cuisine to the greater community.</p><p><strong>What can you expect?</strong></p><ul>    <li>Sample delicious appetizers, entrees, coffees, and desserts from Canton’s extraordinary chefs and restaurateurs</li>    <li>Free Admission</li>    <li>Live Music</li>    <li>Cash bar cocktails, wine, and beer on-site</li></ul><p>RAIN OR SHINE<br>Get tasting tickets&nbsp;<a href="https://www.eventeny.com/events/ticket/?id=10803" target="_blank" rel="noreferrer noopener">HERE</a>!</p>
LOCATION:The Mill on Etowah\, 225 Reformation Pkwy. Canton\, Georgia 30114
CLASS:PUBLIC
END:VEVENT
END:VCALENDAR
