BEGIN:VCALENDAR
VERSION:2.0
PRODID:Canton, GA Calendar Creator
METHOD:PUBLISH
BEGIN:VEVENT
DTSTAMP:20240831T223708
DTSTART:20241129T190000
DTEND:20241129T210000
SUMMARY:The Grinch - En Espanol - 29 de Noviembre
DESCRIPTION:<p>&nbsp;Por favor únete a nosotras para tus películas favoritas de vacaciones!</p><p><a href="https://cantonga.governmentwindow.com/estore/theater/canton-theatre.html" target="_blank">https://cantonga.governmentwindow.com/estore/theater/canton-theatre.html</a></p><p></p>
X-ALT-DESC;FMTTYPE=text/html:<p>&nbsp;Por favor únete a nosotras para tus películas favoritas de vacaciones!</p><p><a href="https://cantonga.governmentwindow.com/estore/theater/canton-theatre.html" target="_blank">https://cantonga.governmentwindow.com/estore/theater/canton-theatre.html</a></p><p></p>
LOCATION:Canton Theatre\, 171 E Main St. Canton\, Georgia 30114
CLASS:PUBLIC
END:VEVENT
END:VCALENDAR
