BEGIN:VCALENDAR
VERSION:2.0
PRODID:Canton, GA Calendar Creator
METHOD:PUBLISH
BEGIN:VEVENT
DTSTAMP:20241213T110009
DTSTART:20241223T150000
DTEND:20241223T170000
SUMMARY:Holiday Movie - Elf
DESCRIPTION:<p>***This event is sold out***</p><p>Join us in celebrating the holiday season with Canton's favorite family tradition - Elf!</p><p>Tickets are $5 and will be available December 2nd&nbsp;<a href="https://cantonga.governmentwindow.com/estore/theater/canton-theatre.html" target="_blank">here!</a></p><p></p>
X-ALT-DESC;FMTTYPE=text/html:<p>***This event is sold out***</p><p>Join us in celebrating the holiday season with Canton's favorite family tradition - Elf!</p><p>Tickets are $5 and will be available December 2nd&nbsp;<a href="https://cantonga.governmentwindow.com/estore/theater/canton-theatre.html" target="_blank">here!</a></p><p></p>
LOCATION:Canton Theatre\, 171 E Main St. Canton\, Georgia 30114
CLASS:PUBLIC
END:VEVENT
END:VCALENDAR
