BEGIN:VCALENDAR
VERSION:2.0
PRODID:Canton, GA Calendar Creator
METHOD:PUBLISH
BEGIN:VEVENT
DTSTAMP:20240823T162137
DTSTART:20241020T183000
DTEND:20241020T203000
SUMMARY:Tarzan: The Disney Stage Musical
DESCRIPTION:<p>&nbsp;Lolek's Storytellers invites you to Tarzan: The Disney Stage Musical!</p><p>&nbsp;The orphaned Tarzan grows up in the remote African wilderness, raised by the gentle gorilla Kala. When a British expedition enters the jungle, Tarzan encounters the beautiful Jane and recognizes that, like her, he's human. Falling in love with Jane, Tarzan is torn between embracing civilization and staying with his gorilla family, which becomes threatened by the ruthless hunter Clayton.</p><p>Tickets available at loleksstorytellers.com</p><p></p>
X-ALT-DESC;FMTTYPE=text/html:<p>&nbsp;Lolek's Storytellers invites you to Tarzan: The Disney Stage Musical!</p><p>&nbsp;The orphaned Tarzan grows up in the remote African wilderness, raised by the gentle gorilla Kala. When a British expedition enters the jungle, Tarzan encounters the beautiful Jane and recognizes that, like her, he's human. Falling in love with Jane, Tarzan is torn between embracing civilization and staying with his gorilla family, which becomes threatened by the ruthless hunter Clayton.</p><p>Tickets available at loleksstorytellers.com</p><p></p>
LOCATION:Canton Theatre\, 171 E Main St. Canton\, Georgia 30114
CLASS:PUBLIC
END:VEVENT
END:VCALENDAR
