BEGIN:VCALENDAR
VERSION:2.0
PRODID:Canton, GA Calendar Creator
METHOD:PUBLISH
BEGIN:VEVENT
DTSTAMP:20240823T161516
DTSTART:20241018T193000
DTEND:20241018T213000
SUMMARY:The Jungle Book, Junior Musical
DESCRIPTION:<p>&nbsp;Lolek's Storytellers invites you to The Jungle Book, Junior Musical!</p><p>Raised by a family of wolves since birth, Mowgli must leave the only home he's ever known when the fearsome tiger Shere Khan unleashes his mighty roar. Guided by a no-nonsense panther and a free-spirited bear, the young boy meets an array of jungle animals, including a slithery python and a smooth-talking ape. Along the way, Mowgli learns valuable life lessons as his epic journey of self-discovery leads to fun and adventure.</p><p>Tickets available at loleksstorytellers.com</p><p>&nbsp;</p>
X-ALT-DESC;FMTTYPE=text/html:<p>&nbsp;Lolek's Storytellers invites you to The Jungle Book, Junior Musical!</p><p>Raised by a family of wolves since birth, Mowgli must leave the only home he's ever known when the fearsome tiger Shere Khan unleashes his mighty roar. Guided by a no-nonsense panther and a free-spirited bear, the young boy meets an array of jungle animals, including a slithery python and a smooth-talking ape. Along the way, Mowgli learns valuable life lessons as his epic journey of self-discovery leads to fun and adventure.</p><p>Tickets available at loleksstorytellers.com</p><p>&nbsp;</p>
LOCATION:Canton Theatre\, 171 E Main St. Canton\, Georgia 30114
CLASS:PUBLIC
END:VEVENT
END:VCALENDAR
