BEGIN:VCALENDAR
VERSION:2.0
PRODID:Canton, GA Calendar Creator
METHOD:PUBLISH
BEGIN:VEVENT
DTSTAMP:20240821T110339
DTSTART:20241004T180000
DTEND:20241004T210000
SUMMARY:First Friday Featuring On the Border
DESCRIPTION:<p>On the Border' is the most authentic Eagles Tribute in the World. Comprised of a multitude of musical talent and a knack for emulating the true recordings of the EAGLES themselves. Every show features all of the hits you love from the last 40+ years of the Eagles.</p><p>Free parking can be found throughout Downtown Canton! To learn more about parking and to see a map of where to park, click&nbsp;<a href="https://explorecantonga.com/plan-your-trip/parking-in-downtown-canton/" target="_blank" rel="noreferrer noopener">HERE</a>. Please note that parking immediately surrounding Cannon Park, including on Main St., is not available during First Friday events.</p>
X-ALT-DESC;FMTTYPE=text/html:<p>On the Border' is the most authentic Eagles Tribute in the World. Comprised of a multitude of musical talent and a knack for emulating the true recordings of the EAGLES themselves. Every show features all of the hits you love from the last 40+ years of the Eagles.</p><p>Free parking can be found throughout Downtown Canton! To learn more about parking and to see a map of where to park, click&nbsp;<a href="https://explorecantonga.com/plan-your-trip/parking-in-downtown-canton/" target="_blank" rel="noreferrer noopener">HERE</a>. Please note that parking immediately surrounding Cannon Park, including on Main St., is not available during First Friday events.</p>
LOCATION:Downtown Canton\, 130 East Main Street Canton\, Georgia 30114
CLASS:PUBLIC
END:VEVENT
END:VCALENDAR
