BEGIN:VCALENDAR
VERSION:2.0
PRODID:Canton, GA Calendar Creator
METHOD:PUBLISH
BEGIN:VEVENT
DTSTAMP:20240821T105711
DTSTART:20240906T180000
DTEND:20240906T210000
SUMMARY:First Friday Featuring Departure
DESCRIPTION:<p>In their 15th year together, DEPARTURE is the most respected Journey tribute band in the nation. DEPARTURE replicates the look, sound and feel of the original 80’s rock super group; Journey. These veteran musicians love what they do and have developed an amazing on-stage chemistry. They pride themselves on giving their audience an incredible high-energy, qualitative stage show from start to finish. Dressed in the iconic tuxedo jacket, DEPARTURE lead vocalist, Brian Williams, has an amazing singing voice, flawlessly matching Steve Perry’s vocal range and on-stage movements.</p><p>Free parking can be found throughout Downtown Canton! To learn more about parking and to see a map of where to park, click&nbsp;<a href="https://explorecantonga.com/plan-your-trip/parking-in-downtown-canton/" target="_blank" rel="noreferrer noopener">HERE</a>. Please note that parking immediately surrounding Cannon Park, including on Main St., is not available during First Friday events.</p>
X-ALT-DESC;FMTTYPE=text/html:<p>In their 15th year together, DEPARTURE is the most respected Journey tribute band in the nation. DEPARTURE replicates the look, sound and feel of the original 80’s rock super group; Journey. These veteran musicians love what they do and have developed an amazing on-stage chemistry. They pride themselves on giving their audience an incredible high-energy, qualitative stage show from start to finish. Dressed in the iconic tuxedo jacket, DEPARTURE lead vocalist, Brian Williams, has an amazing singing voice, flawlessly matching Steve Perry’s vocal range and on-stage movements.</p><p>Free parking can be found throughout Downtown Canton! To learn more about parking and to see a map of where to park, click&nbsp;<a href="https://explorecantonga.com/plan-your-trip/parking-in-downtown-canton/" target="_blank" rel="noreferrer noopener">HERE</a>. Please note that parking immediately surrounding Cannon Park, including on Main St., is not available during First Friday events.</p>
LOCATION:Downtown Canton\, 130 East Main Street Canton\, Georgia 30114
CLASS:PUBLIC
END:VEVENT
END:VCALENDAR
