BEGIN:VCALENDAR
VERSION:2.0
PRODID:Canton, GA Calendar Creator
METHOD:PUBLISH
BEGIN:VEVENT
DTSTAMP:20240914T102632
DTSTART:20241005T200000
DTEND:20241005T213000
SUMMARY:A Haunting Evening of Jazz with Carrollton Jazz Orchestra
DESCRIPTION:<p>Join us Saturday, October 5 at 8pm for A Haunting Evening of Jazz featuring the amazing Carrollton Jazz Orchestra.&nbsp;</p><p>The Carrollton Jazz Orchestra is a twenty-piece jazz band constructed in the traditional instrumentation of the "big band" with a concert repertoire that includes the music of Duke Ellington, Count Basie, Sammy Nestico, Mel Lewis, Buddy Rich, Chick Corea and many other jazz greats.&nbsp;</p><p>Tickets are $20 and can be purchased&nbsp;<a href="https://cantonga.governmentwindow.com/estore/theater/canton-theatre.html" target="_blank">here!</a></p><p>&nbsp;</p>
X-ALT-DESC;FMTTYPE=text/html:<p>Join us Saturday, October 5 at 8pm for A Haunting Evening of Jazz featuring the amazing Carrollton Jazz Orchestra.&nbsp;</p><p>The Carrollton Jazz Orchestra is a twenty-piece jazz band constructed in the traditional instrumentation of the "big band" with a concert repertoire that includes the music of Duke Ellington, Count Basie, Sammy Nestico, Mel Lewis, Buddy Rich, Chick Corea and many other jazz greats.&nbsp;</p><p>Tickets are $20 and can be purchased&nbsp;<a href="https://cantonga.governmentwindow.com/estore/theater/canton-theatre.html" target="_blank">here!</a></p><p>&nbsp;</p>
LOCATION:Canton Theatre\, 171 E Main St. Canton\, Georgia 30114
CLASS:PUBLIC
END:VEVENT
END:VCALENDAR
