BEGIN:VCALENDAR
VERSION:2.0
PRODID:Canton, GA Calendar Creator
METHOD:PUBLISH
BEGIN:VEVENT
DTSTAMP:20240726T152741
DTSTART:20250316T143000
DTEND:20250316T163000
SUMMARY:Second Samuel presented by Cherokee Theatre Company
DESCRIPTION:<p>&nbsp;Cherokee Theatre Company presents "Second Samuel" by Pamela Parker</p><p>&nbsp;It was a simpler time in the late 1940s, especially in South Georgia and specifically in a sleepy little town called Second Samuel. What had been called the Great Depression was quickly fading into memory. The war had been won, the election was now over, and "Give 'em Hell Harry" was still president. It had been an exciting time for sure, but the folks in Second Samuel were ready for things to settle down and get back to normal. Except—this was the summer Miss Gertrude passed away, and deep dark secrets were about to be revealed. Nobody could have imagined how the death of one sweet little old lady would turn the entire town upside down, leaving everybody in Second Samuel wondering if anything would ever be normal again! -&nbsp;tickets are&nbsp;$15- 18 at&nbsp;<a href="https://www.cantonga.gov/?splash=http%3a%2f%2fwww.cherokeetheatre.org&amp;____isexternal=true" target="_blank">http://www.cherokeetheatre.org/</a>&nbsp;or email boxoffice@cherokeetheatre.org or call 770-591-0282.</p>
X-ALT-DESC;FMTTYPE=text/html:<p>&nbsp;Cherokee Theatre Company presents "Second Samuel" by Pamela Parker</p><p>&nbsp;It was a simpler time in the late 1940s, especially in South Georgia and specifically in a sleepy little town called Second Samuel. What had been called the Great Depression was quickly fading into memory. The war had been won, the election was now over, and "Give 'em Hell Harry" was still president. It had been an exciting time for sure, but the folks in Second Samuel were ready for things to settle down and get back to normal. Except—this was the summer Miss Gertrude passed away, and deep dark secrets were about to be revealed. Nobody could have imagined how the death of one sweet little old lady would turn the entire town upside down, leaving everybody in Second Samuel wondering if anything would ever be normal again! -&nbsp;tickets are&nbsp;$15- 18 at&nbsp;<a href="https://www.cantonga.gov/?splash=http%3a%2f%2fwww.cherokeetheatre.org&amp;____isexternal=true" target="_blank">http://www.cherokeetheatre.org/</a>&nbsp;or email boxoffice@cherokeetheatre.org or call 770-591-0282.</p>
LOCATION:Canton Theatre\, 171 E Main St. Canton\, Georgia 30114
CLASS:PUBLIC
END:VEVENT
END:VCALENDAR
