BEGIN:VCALENDAR
VERSION:2.0
PRODID:Canton, GA Calendar Creator
METHOD:PUBLISH
BEGIN:VEVENT
DTSTAMP:20240720T215555
DTSTART:20241222T143000
DTEND:20241222T163000
SUMMARY:A Tuna Christmas presented by Cherokee Theatre Company
DESCRIPTION:<p>Cherokee Theatre Company presents "A Tuna Christmas" by Jaston Williams, Joe Sears, &amp; Ed Howard</p><p>In this hilarious sequel to Greater Tuna, it’s Christmas in the third-smallest town in Texas. Radio station news personalities Thurston Wheelis and Arles Struvie report on various Yuletide activities, including the hot competition in the annual lawn-display contest. In other news, voracious Joe Bob Lipsey’s production of A Christmas Carol is jeopardized by unpaid electric bills. Many colorful Tuna denizens, some you will recognize from Greater Tuna and some appearing here for the first time, join in the holiday fun. - tickets are&nbsp;$15- 18 at&nbsp;<a href="https://www.cantonga.gov/?splash=http%3a%2f%2fwww.cherokeetheatre.org&amp;____isexternal=true" target="_blank">http://www.cherokeetheatre.org/</a>&nbsp;or email boxoffice@cherokeetheatre.org or call 770-591-0282.</p>
X-ALT-DESC;FMTTYPE=text/html:<p>Cherokee Theatre Company presents "A Tuna Christmas" by Jaston Williams, Joe Sears, &amp; Ed Howard</p><p>In this hilarious sequel to Greater Tuna, it’s Christmas in the third-smallest town in Texas. Radio station news personalities Thurston Wheelis and Arles Struvie report on various Yuletide activities, including the hot competition in the annual lawn-display contest. In other news, voracious Joe Bob Lipsey’s production of A Christmas Carol is jeopardized by unpaid electric bills. Many colorful Tuna denizens, some you will recognize from Greater Tuna and some appearing here for the first time, join in the holiday fun. - tickets are&nbsp;$15- 18 at&nbsp;<a href="https://www.cantonga.gov/?splash=http%3a%2f%2fwww.cherokeetheatre.org&amp;____isexternal=true" target="_blank">http://www.cherokeetheatre.org/</a>&nbsp;or email boxoffice@cherokeetheatre.org or call 770-591-0282.</p>
LOCATION:Canton Theatre\, 171 E Main St. Canton\, Georgia 30114
CLASS:PUBLIC
END:VEVENT
END:VCALENDAR
