BEGIN:VCALENDAR
VERSION:2.0
PRODID:Canton, GA Calendar Creator
METHOD:PUBLISH
BEGIN:VEVENT
DTSTAMP:20240614T142537
DTSTART:20240627T170000
DTEND:20240627T200000
SUMMARY:Downtown Canton - Stroll the Streets
DESCRIPTION:<p>Stroll the Streets of downtown Canton Thursday, June 27, for an evening of community, art, music, and food! Businesses will stay open until 8 p.m., and offer street side entertainment for pedestrian and pet-friendly shopping and mingling.&nbsp;</p><p><br /></p>
X-ALT-DESC;FMTTYPE=text/html:<p>Stroll the Streets of downtown Canton Thursday, June 27, for an evening of community, art, music, and food! Businesses will stay open until 8 p.m., and offer street side entertainment for pedestrian and pet-friendly shopping and mingling.&nbsp;</p><p><br /></p>
LOCATION:Downtown Canton\, 130 East Main Street Canton\, Georgia 30114
CLASS:PUBLIC
END:VEVENT
END:VCALENDAR
