BEGIN:VCALENDAR
VERSION:2.0
PRODID:Canton, GA Calendar Creator
METHOD:PUBLISH
BEGIN:VEVENT
DTSTAMP:20240520T143136
DTSTART:20240604T160000
DTEND:20240604T190000
SUMMARY:Open House: Historic District Expansion and Residential Design Guidelines
DESCRIPTION:
X-ALT-DESC;FMTTYPE=text/html:
LOCATION:City Hall\, 110 Academy Street Canton\, Georgia 30114-3003
CLASS:PUBLIC
END:VEVENT
END:VCALENDAR
