BEGIN:VCALENDAR
VERSION:2.0
PRODID:Canton, GA Calendar Creator
METHOD:PUBLISH
BEGIN:VEVENT
DTSTAMP:20240430T095306
DTSTART:20240509T160000
DTEND:20240509T180000
SUMMARY:Downtown Master Plan Community Open House
DESCRIPTION:<p>The City of Canton and the Downtown Development Authority invite you to the 3rd and final&nbsp;Canton Downtown Master Plan “Community Open House” on May 9, 2024, from 4-6 p.m., in the Canton City Hall Auditorium!</p><p> You can view the project recommendations at this&nbsp;community engagement event and gain insight on our development plans. This will be the last&nbsp;opportunity to engage with the City and Downtown Development Authority on the Downtown&nbsp;Master Plan.</p><p>Stay tuned for more information!</p>
X-ALT-DESC;FMTTYPE=text/html:<p>The City of Canton and the Downtown Development Authority invite you to the 3rd and final&nbsp;Canton Downtown Master Plan “Community Open House” on May 9, 2024, from 4-6 p.m., in the Canton City Hall Auditorium!</p><p> You can view the project recommendations at this&nbsp;community engagement event and gain insight on our development plans. This will be the last&nbsp;opportunity to engage with the City and Downtown Development Authority on the Downtown&nbsp;Master Plan.</p><p>Stay tuned for more information!</p>
LOCATION:City Hall\, 110 Academy Street Canton\, Georgia 30114-3003
CLASS:PUBLIC
END:VEVENT
END:VCALENDAR
