BEGIN:VCALENDAR
VERSION:2.0
PRODID:Canton, GA Calendar Creator
METHOD:PUBLISH
BEGIN:VEVENT
DTSTAMP:20240423T150814
DTSTART:20240629T200000
DTEND:20240629T213000
SUMMARY:Carrollton Jazz Orchestra
DESCRIPTION:<p>The&nbsp;Carrollton Jazz Orchestra&nbsp;is a twenty-piece jazz band , constructed in the traditional instrumentation of the “big band”- with saxophone, trombone, trumpet and rhythm sections augmented by reeds, brass, and percussion. Expect a concert repertoire that includes all your favorites- Duke Ellington, Count Basie, Sammy Nestico, Mel Lewis, Buddy Rich, Chick Corea and many other jazz greats.&nbsp;</p><p>&nbsp;<a href="http://cantonga.governmentwindow.com/estore/theater/canton-theatre.html" target="_blank">Click here for tickets</a></p><p></p>
X-ALT-DESC;FMTTYPE=text/html:<p>The&nbsp;Carrollton Jazz Orchestra&nbsp;is a twenty-piece jazz band , constructed in the traditional instrumentation of the “big band”- with saxophone, trombone, trumpet and rhythm sections augmented by reeds, brass, and percussion. Expect a concert repertoire that includes all your favorites- Duke Ellington, Count Basie, Sammy Nestico, Mel Lewis, Buddy Rich, Chick Corea and many other jazz greats.&nbsp;</p><p>&nbsp;<a href="http://cantonga.governmentwindow.com/estore/theater/canton-theatre.html" target="_blank">Click here for tickets</a></p><p></p>
LOCATION:Canton Theatre\, 171 E Main St. Canton\, Georgia 30114
CLASS:PUBLIC
END:VEVENT
END:VCALENDAR
