BEGIN:VCALENDAR
VERSION:2.0
PRODID:Canton, GA Calendar Creator
METHOD:PUBLISH
BEGIN:VEVENT
DTSTAMP:20240419T132840
DTSTART:20240427T130000
DTEND:20240427T210000
SUMMARY:Peaberry Film Festival
DESCRIPTION:<p><a href="https://www.peaberryfest.org/" target="_blank"><strong>Peaberry Film Festival</strong></a>, returning for its second year, is a continuation of the Etowah Film Festival, which ran for three years at the&nbsp;<a href="https://explorecantonga.com/things-to-do/arts-culture/canton-theatre/" target="_blank" rel="noreferrer noopener"><strong>Historic Canton Theatre</strong></a>. Attendees can expect screenings of local and international films, connecting filmmakers and audiences. Sponsored by <a href="www.explorecantonga.com" target="_blank"><strong>Explore Canton</strong></a>, the festival will also connect filmmakers to the government resources available to them – specifically as it pertains to location scouting.</p><p><strong>Want more information or tickets?&nbsp;</strong>Visit&nbsp;<a href="http://www.peaberryfest.org/" target="_blank">www.peaberryfest.org</a>!</p><p>Canton, Georgia is just north of Atlanta and is home to the Historic Canton Theatre. The Theatre dates back to 1911, when it was a popular scene for silent movies. Canton has since become a popular location for recent Hollywood productions like "<a href="https://explorecantonga.com/things-to-do/filmed-in-canton/the-family-plan/?token=NSCoSLb_NAUFZOcY_xR3mzk3klEwFIoj" target="_blank" rel="noreferrer noopener">&nbsp;</a>The Family Plan" and "<a href="https://explorecantonga.com/things-to-do/filmed-in-canton/hidden-figures/" target="_blank" rel="noreferrer noopener">&nbsp;</a>Hidden Figures". Today, the theatre still showcases movies and live theatrical productions.</p><p>&nbsp;</p>
X-ALT-DESC;FMTTYPE=text/html:<p><a href="https://www.peaberryfest.org/" target="_blank"><strong>Peaberry Film Festival</strong></a>, returning for its second year, is a continuation of the Etowah Film Festival, which ran for three years at the&nbsp;<a href="https://explorecantonga.com/things-to-do/arts-culture/canton-theatre/" target="_blank" rel="noreferrer noopener"><strong>Historic Canton Theatre</strong></a>. Attendees can expect screenings of local and international films, connecting filmmakers and audiences. Sponsored by <a href="www.explorecantonga.com" target="_blank"><strong>Explore Canton</strong></a>, the festival will also connect filmmakers to the government resources available to them – specifically as it pertains to location scouting.</p><p><strong>Want more information or tickets?&nbsp;</strong>Visit&nbsp;<a href="http://www.peaberryfest.org/" target="_blank">www.peaberryfest.org</a>!</p><p>Canton, Georgia is just north of Atlanta and is home to the Historic Canton Theatre. The Theatre dates back to 1911, when it was a popular scene for silent movies. Canton has since become a popular location for recent Hollywood productions like "<a href="https://explorecantonga.com/things-to-do/filmed-in-canton/the-family-plan/?token=NSCoSLb_NAUFZOcY_xR3mzk3klEwFIoj" target="_blank" rel="noreferrer noopener">&nbsp;</a>The Family Plan" and "<a href="https://explorecantonga.com/things-to-do/filmed-in-canton/hidden-figures/" target="_blank" rel="noreferrer noopener">&nbsp;</a>Hidden Figures". Today, the theatre still showcases movies and live theatrical productions.</p><p>&nbsp;</p>
LOCATION:Canton Theatre\, 171 E Main St. Canton\, Georgia 30114
CLASS:PUBLIC
END:VEVENT
END:VCALENDAR
