BEGIN:VCALENDAR
VERSION:2.0
PRODID:Canton, GA Calendar Creator
METHOD:PUBLISH
BEGIN:VEVENT
DTSTAMP:20240528T153528
DTSTART:20240927T190000
DTEND:20240927T210000
SUMMARY:Classic Film Series- Rear Window
DESCRIPTION:<p>Join us for all your favorite films from the Master of Suspense himself, Alfred Hitchcock!&nbsp;</p><p>4th Friday of each month, June-October at 7pm</p><p>Tickets are $5 and will be available on September 14th&nbsp;<a href="https://cantonga.governmentwindow.com/estore/theater/canton-theatre.html" target="_blank">here!</a></p><p>&nbsp;</p><p>&nbsp;</p>
X-ALT-DESC;FMTTYPE=text/html:<p>Join us for all your favorite films from the Master of Suspense himself, Alfred Hitchcock!&nbsp;</p><p>4th Friday of each month, June-October at 7pm</p><p>Tickets are $5 and will be available on September 14th&nbsp;<a href="https://cantonga.governmentwindow.com/estore/theater/canton-theatre.html" target="_blank">here!</a></p><p>&nbsp;</p><p>&nbsp;</p>
LOCATION:Canton Theatre\, 171 E Main St. Canton\, Georgia 30114
CLASS:PUBLIC
END:VEVENT
END:VCALENDAR
